BEGIN:VCALENDAR
VERSION:2.0
PRODID:-//津の時間。（津市観光協会） - ECPv6.8.1//NONSGML v1.0//EN
CALSCALE:GREGORIAN
METHOD:PUBLISH
X-WR-CALNAME:津の時間。（津市観光協会）
X-ORIGINAL-URL:https://kanko.u900.work
X-WR-CALDESC:津の時間。（津市観光協会） のイベント
REFRESH-INTERVAL;VALUE=DURATION:PT1H
X-Robots-Tag:noindex
X-PUBLISHED-TTL:PT1H
BEGIN:VTIMEZONE
TZID:Asia/Tokyo
BEGIN:STANDARD
TZOFFSETFROM:+0900
TZOFFSETTO:+0900
TZNAME:JST
DTSTART:20240101T000000
END:STANDARD
END:VTIMEZONE
BEGIN:VEVENT
DTSTART;TZID=Asia/Tokyo:20240601T080000
DTEND;TZID=Asia/Tokyo:20240707T183000
DTSTAMP:20260422T112539
CREATED:20240521T024922Z
LAST-MODIFIED:20240704T083227Z
UID:7033-1717228800-1720377000@kanko.u900.work
SUMMARY:かざはやの里2024紫陽花まつり
DESCRIPTION:7月7日(日)にあじさい祭りは終了いたします。 \n期間中の無料シャトルバス（土日のみ）を運行しております。 \nマルシェやドッグランなどイベントが盛りだくさんです！ \nあじさいまつり期間中イベント\n・猿回し：6月15日、16日、22日、23日、29日、30日10時～17時\n・大道芸：6月8日、15日、16日、22日、23日（雨天中止）10時～17時\n・2024年度津クイーンフォトセッション6月9日10時～15時\n・2024年花Queen撮影会：6月16日13時～15時半\n・マルシェ「LANDの休日」6月15日、16日10時～16時\n・手打ちそば「福朗会」6月15日、16日10時～16時 \n【無料シャトルバス】（近鉄久居駅東口⇔かざはやの里）\n運行日：6月8日、9日、15日、16日、22日、23日\n久居駅東口　9:00、10:00、11:00、12:00、13:00、15:00\nかざはやの里　9:30、10:30、11:30、12:30、13:30、15:30、16:30
URL:https://kanko.u900.work/event/tribe_events-7033/
LOCATION:かざはやの里\, 514-1138\, 三重県津市戸木町４０９６ 伊勢温泉ゴルフクラブ内
CATEGORIES:体験型イベント
ATTACH;FMTTYPE=image/jpeg:https://kanko.u900.work/manage/wp-content/uploads/2024/05/かざはやの里あじさい-2.jpg
END:VEVENT
BEGIN:VEVENT
DTSTART;TZID=Asia/Tokyo:20240706T100000
DTEND;TZID=Asia/Tokyo:20240706T180000
DTSTAMP:20260422T112539
CREATED:20240527T084630Z
LAST-MODIFIED:20240619T083015Z
UID:7072-1720260000-1720288800@kanko.u900.work
SUMMARY:一身田七夕まつり
DESCRIPTION:ミニSL、津高虎太鼓の演奏（体験会もあり）、ビンゴ大会、プラレールなど内容盛りだくさんのお祭りです。\nまた今年は、釘貫門で前夜祭も行われます。天の川イルミネーションが実施されます。（7月5日(金)18時～21時） \n→　詳細は、チラシからフェイスブックなどでご確認ください。 \n 
URL:https://kanko.u900.work/event/tribe_events-7072/
LOCATION:一身田寺内町周辺
CATEGORIES:体験型イベント
ATTACH;FMTTYPE=image/jpeg:https://kanko.u900.work/manage/wp-content/uploads/2024/05/一身田七夕まつり-1.jpg
END:VEVENT
BEGIN:VEVENT
DTSTART;TZID=Asia/Tokyo:20240706T190000
DTEND;TZID=Asia/Tokyo:20240706T220000
DTSTAMP:20260422T112539
CREATED:20240527T084943Z
LAST-MODIFIED:20240619T060719Z
UID:7075-1720292400-1720303200@kanko.u900.work
SUMMARY:町屋百人衆「巨大龍踊り」
DESCRIPTION:巨大龍踊り、今年は開催されます！\n巨大龍踊り（町屋百人衆）写真巨大龍は、地元にある千王神社の祭礼行事（雨乞い神事）にちなんで、会員が自作したものです。日本一の長さを誇る全長55メートル（参道の長さ）の電飾を施したものです。龍の口からは炭酸ガスが吹き出します。初代巨大龍は、骨組みを竹で作り、自分たちで描いた布地をかぶせて製作しました。現在の2代目巨大龍は、激しい踊りに耐えられるように、骨組みをアルミフレームに変え、かぶせる布もテント素材に会員が協力して描いた図柄となっています。 \n毎年7月上旬に催される巨大龍踊りは、伊勢街道を練り歩き、国道23号線で舞い踊ります！必見です！ \n令和6年7月6日(土)\n19時～祭禮（千王神社）
URL:https://kanko.u900.work/event/tribe_events-7075/
ATTACH;FMTTYPE=image/jpeg:https://kanko.u900.work/manage/wp-content/uploads/2024/05/IMG_3424.jpg
END:VEVENT
BEGIN:VEVENT
DTSTART;TZID=Asia/Tokyo:20240707T130000
DTEND;TZID=Asia/Tokyo:20240707T210000
DTSTAMP:20260422T112539
CREATED:20240523T051820Z
LAST-MODIFIED:20240704T083017Z
UID:7044-1720357200-1720386000@kanko.u900.work
SUMMARY:つ七夕まつり
DESCRIPTION: 　 \n 　 \n津観音境内\n❖短冊・竹あかり製作体験(15:20〜) ※なくなり次第終了します。 \n❖映えスポット ライトアップ(16:00〜20:40) \n❖七夕護摩木奉納(19:00〜20:30) \n津観音は、今年で創設1316年目を迎えることから、会場では1316枚の護摩木が配付されます。津観音で願い事を書き、津観音の護摩堂に納めましょう。 \n津市まん中広場\n❖七夕SDGsフェスタ(15:00〜20:00) \n丸之内商店街\n❖丸之内の高虎夜市(13:00〜20:30) \n❖手作り吹き流しの展示 \n松 菱\n❖店内外で七夕イベント(15:00〜20:00) \n❖ビンゴ大会や大道芸、夜店など、店内・店外でお楽しみイベント満載! \n観音橋\n❖つ七夕笹流し(13:00〜20:30) \n観音橋の上から、願い事の短冊を付けた笹飾りを岩田川へ流そう！ \n長年の間、親しまれている津市の夏の夜を彩る風物詩です。今年も子どもたちの夢を乗せて、願いを天に届けます。 \n❖観音橋ライトアップ(19:30〜20:30) \n❖七夕護摩木配付(13:00〜) ※なくなり次第終了します。 \n津新町商店街\n❖手持ち笹・短冊配付(15:00〜20:00) ※なくなり次第終了します。\n七夕スタンプラリー\n15：00〜20：00 　小学生以下のお子様限定! スタンプ 用紙に ４ 箇所のスタンプ全てを押して、 景品抽選所で抽選に挑戦しよう! ※スタンプ用紙及び景品は、なくなり次第終 了します。 \n願い事短冊募集\n岩田川に流せなかった願いを津観音 （ ８ 月 ９ 日 十日観音）のお焚き上げで天 の川へ届けます。募集期間内に郵送または設置されて いる応募箱へ投函してください。 【募集期間】 令和6年７月１日㈪〜同月31日㈬ \nチラシはこちら！\nつ七夕まつり2024
URL:https://kanko.u900.work/event/tribe_events-7044/
CATEGORIES:観光イベント
ATTACH;FMTTYPE=image/jpeg:https://kanko.u900.work/manage/wp-content/uploads/2024/05/IMG_1663.jpg
END:VEVENT
BEGIN:VEVENT
DTSTART;TZID=Asia/Tokyo:20240711T190000
DTEND;TZID=Asia/Tokyo:20240711T213000
DTSTAMP:20260422T112539
CREATED:20240606T020813Z
LAST-MODIFIED:20240606T043551Z
UID:7198-1720724400-1720733400@kanko.u900.work
SUMMARY:やぶねり
DESCRIPTION:今年も白塚町のやぶねり開催されます！ \nやぶねり写真白塚町八雲神社の夏祭りに行われるやぶねりは、祭神のスサノオノミコトが 退治した八岐大蛇をまねた青竹を束ねて作った「やぶ」をかついで町中を 練り歩き、悪病退散などを願うエネルギッシュな行事です。
URL:https://kanko.u900.work/event/tribe_events-7198/
LOCATION:八雲神社\, 三重県津市白塚町4558\, 5140101\, 日本
CATEGORIES:観光イベント
ATTACH;FMTTYPE=image/jpeg:https://kanko.u900.work/manage/wp-content/uploads/2024/06/IMG_3599.jpg
END:VEVENT
BEGIN:VEVENT
DTSTART;TZID=Asia/Tokyo:20240715T180000
DTEND;TZID=Asia/Tokyo:20240715T213000
DTSTAMP:20260422T112539
CREATED:20240527T085628Z
LAST-MODIFIED:20240703T055429Z
UID:7078-1721066400-1721079000@kanko.u900.work
SUMMARY:ざるやぶり神事
DESCRIPTION:約400 年の伝統を受け継ぐ裸祭り!!\nざるやぶり（神事）写真\n毎年7月15日の夜、河芸町一色では市指定無形民俗文化財の「ざるやぶり」神事が行われる。\nこの「ざるや ぶり」神事の由来は、室町時代中ごろ、近江源氏の末えいといわれる三井氏一行が、転戦の末、一色海岸にたどり着いた時、空腹のあまり民家に入り、「よまし 麦」を家人と奪い合った故事にちなんでいる。当時の祖先を追憶し、豊漁と安穏無事を祈願するという祭礼として行われるようになった。\n祭礼は、河芸町一色の八雲神社で、7月15日20時の花火の合図とともに、ふんどし姿の若者たちが、「ワッショイ、ワッショイ、ワーイ」の掛け声で神社に駆け込み、数十人の裸の若者が練り合い、冷水をかけ、約20分ほど練り合い、第１回目の練りが終わる。\n小休止の後に、花火を合図に社前で、さらに拝殿の中でも、練り合いが行われ、第１回目よりさらに人数が増し、熱気を帯びた男たちに冷水をかぶせる。約30分ほどでいったん引き上げる。\n第３回目、21時ごろから最後のもみ合いが始まる。人の上に人がのしかかり、一段と熱気を増し、いよいよクライマックスに突入する。前日から白米を入れて 用意した直径約９０センチメートルの「たんばざる」を、若者たちがお互い引っ張り合い、奪い合う。その様はさながら騎馬戦のようで、ざるは破られ、ちぎら れる。その迫力に圧倒されることだろう。\n年に一度のこの神事、一度見に行かれてはいかがだろう。 \nざるやぶり神事のパンフレットはこちら\n表面　中面
URL:https://kanko.u900.work/event/tribe_events-7078/
CATEGORIES:体験型イベント
ATTACH;FMTTYPE=image/jpeg:https://kanko.u900.work/manage/wp-content/uploads/2024/05/CIMG1711.jpg
END:VEVENT
BEGIN:VEVENT
DTSTART;TZID=Asia/Tokyo:20240717T093000
DTEND;TZID=Asia/Tokyo:20240717T150000
DTSTAMP:20260422T112539
CREATED:20240716T022419Z
LAST-MODIFIED:20240716T091907Z
UID:8424-1721208600-1721228400@kanko.u900.work
SUMMARY:美杉物産展
DESCRIPTION:毎月第3水曜日にアスト津1階アストモールで開催しています。 \n美杉地域を中心におこしなして市場の方が出店しております。 \n・藤田こんにゃく（こんにゃく） \n・菅尾製茶（お茶） \n・お菓子処おかもと（和菓子） \n・峯田麹店（醤油・味噌） \n・丸大大森（海苔）
URL:https://kanko.u900.work/event/tribe_events-8424/
LOCATION:アスト\, 津市羽所町700アスト津1階\, 三重県\, 514-0009\, 日本
CATEGORIES:グルメイベント
ATTACH;FMTTYPE=image/jpeg:https://kanko.u900.work/manage/wp-content/uploads/2024/07/S__10780685_0.jpg
END:VEVENT
BEGIN:VEVENT
DTSTART;TZID=Asia/Tokyo:20240727T200000
DTEND;TZID=Asia/Tokyo:20240727T210000
DTSTAMP:20260422T112539
CREATED:20240402T083426Z
LAST-MODIFIED:20240708T073523Z
UID:6510-1722110400-1722114000@kanko.u900.work
SUMMARY:第71回津花火大会2024
DESCRIPTION:津の夏の風物詩として、水面に映え、心に響き、みなさまの夏の思い出に残る花火大会の開催を目指します！ \n海岸線３kmのどこからでも観覧可能に！\n協賛者招待エリアを新設！ \n【開催日時】 令和６年７月２７日（土）午後８時から\n【打上場所】 阿漕浦海岸沖南方（令和５年度と同じ）\n【打上発数 】５\,０００発 \n津花火大会をより楽しめるように特集ページを作成しました！\nぜひ、ご確認下さい！\n津花火大会特集ページ
URL:https://kanko.u900.work/event/tribe_events-6510/
LOCATION:阿漕浦海岸沖南方（令和５年度と同じ）
CATEGORIES:観光イベント
ATTACH;FMTTYPE=image/jpeg:https://kanko.u900.work/manage/wp-content/uploads/2024/04/EA5A1528.jpg
END:VEVENT
END:VCALENDAR