BEGIN:VCALENDAR
VERSION:2.0
PRODID:-//津の時間。（津市観光協会） - ECPv6.8.1//NONSGML v1.0//EN
CALSCALE:GREGORIAN
METHOD:PUBLISH
X-WR-CALNAME:津の時間。（津市観光協会）
X-ORIGINAL-URL:https://kanko.u900.work
X-WR-CALDESC:津の時間。（津市観光協会） のイベント
REFRESH-INTERVAL;VALUE=DURATION:PT1H
X-Robots-Tag:noindex
X-PUBLISHED-TTL:PT1H
BEGIN:VTIMEZONE
TZID:Asia/Tokyo
BEGIN:STANDARD
TZOFFSETFROM:+0900
TZOFFSETTO:+0900
TZNAME:JST
DTSTART:20240101T000000
END:STANDARD
END:VTIMEZONE
BEGIN:VEVENT
DTSTART;TZID=Asia/Tokyo:20240803T180000
DTEND;TZID=Asia/Tokyo:20240803T203000
DTSTAMP:20260420T072228
CREATED:20240501T064542Z
LAST-MODIFIED:20240805T020011Z
UID:6836-1722708000-1722717000@kanko.u900.work
SUMMARY:第63回久居花火大会
DESCRIPTION:久居 夏の風物詩\n久居の花火大会は、昭和３６年から民踊おどりコンクールと併せて陸上自衛隊久居駐屯地グラウンドで開催され、夏の風物詩として毎年開催しており、津市久居地域で最も大きな観光事業として地域の活性化と観光振興を図ることを目的にしています。\n会場観覧席では、真上に上がる花火を見あげることができ、例年多くの歓声に包まれます。 \nまた、会場が近鉄久居駅から近いため、公共交通機関でのご来場が便利です。 \n久居花火大会をより楽しめるように、特集ページを作成しました！\nぜひご確認ください！\n久居花火大会特集ページ
URL:https://kanko.u900.work/event/tribe_events-6836/
LOCATION:陸上自衛隊久居駐屯地グラウンド
ATTACH;FMTTYPE=image/jpeg:https://kanko.u900.work/manage/wp-content/uploads/2024/05/久居花火大会.jpg
END:VEVENT
BEGIN:VEVENT
DTSTART;TZID=Asia/Tokyo:20240810T183000
DTEND;TZID=Asia/Tokyo:20240810T210000
DTSTAMP:20260420T072228
CREATED:20240725T014920Z
LAST-MODIFIED:20240725T015940Z
UID:8906-1723314600-1723323600@kanko.u900.work
SUMMARY:第33回みすぎ夏まつり納涼花火大会
DESCRIPTION:山の谷間に花火がこだまする！太鼓演奏やよさこいソーランで祭りが盛り上がります。打ち上げ花火や手筒花火が山々を鮮やかに照らし響き渡る花火の音は、迫力満点です！ \n美杉の花火大会として、大変地元で愛されています。 \n問）059-272-8085（みすぎ夏まつり実行委員会事務局） \n駐車場）JR八知駅前駐車場
URL:https://kanko.u900.work/event/tribe_events-8906/
LOCATION:SPASPO神湯館　SFL2024パブリックビューイング開催！\, 三重県津市榊原町5079\, 日本
CATEGORIES:観光イベント
ATTACH;FMTTYPE=image/jpeg:https://kanko.u900.work/manage/wp-content/uploads/2024/07/20240725104618-0001.jpg
END:VEVENT
BEGIN:VEVENT
DTSTART;TZID=Asia/Tokyo:20240813T160000
DTEND;TZID=Asia/Tokyo:20240815T210000
DTSTAMP:20260420T072228
CREATED:20240725T045735Z
LAST-MODIFIED:20240725T052221Z
UID:8917-1723564800-1723755600@kanko.u900.work
SUMMARY:万灯みたま祭
DESCRIPTION:■開催期間：令和6年8月13日～15日 \n約6\,000灯の提灯・行灯を境内に掲げて、ご英霊のみたまを慰める夏まつりです。 \n■祭典 \nⅠ . 8月13日 　午後6時半～7時頃 \n提灯点灯式 \nⅡ . 8月14日 　午前10時～11時頃 \n式年みたま祭 \nⅢ . 8月15日 　午前11時半～12時頃 \n終戦の日 英霊感謝祭 \n■夏祭りin護國神社\n　 \nキッチンカーと縁日、「強烈」なご当地ユニットご来場！ \n駐車場は近隣のパーキングをご利用ください。 \n神社の駐車場はご利用いただけません。
URL:https://kanko.u900.work/event/tribe_events-8917/
LOCATION:三重縣護國神社\, 津市広明町387\, 514-0006
CATEGORIES:グルメイベント,観光イベント
ATTACH;FMTTYPE=image/jpeg:https://kanko.u900.work/manage/wp-content/uploads/2024/07/IMG_5485.jpg
END:VEVENT
BEGIN:VEVENT
DTSTART;TZID=Asia/Tokyo:20240814T093000
DTEND;TZID=Asia/Tokyo:20240901T163000
DTSTAMP:20260420T072228
CREATED:20240725T043753Z
LAST-MODIFIED:20240804T082626Z
UID:8922-1723627800-1725208200@kanko.u900.work
SUMMARY:キッズ大喜び！仕事体験パーク kanduカンドゥーinボートレース津
DESCRIPTION:親子3世代で楽しめる仕事体験テーマパーク「カンドゥー」がボートレース津にやってくる︕\n8種類のアクティビティでお仕事体験しよう︕ \n開催期間\n2024年8月14日(水)～2024年9月1日(日) \n\n開催場所\nボートレース津 ツッキードーム\n〒514-0815 三重県津市藤方637アクセス \n\n\n推奨年齢\n3歳～12歳 \n\n\n入場方法\n事前予約制 \n\n料金\n体験されるお子様1名につき 500円(税込)\n同伴される保護者の方 無料\n※イベントへの参加には保護者の方の同伴が必要です。\n※20才以上の方は、別途ボートレース場への入場料100円が必要です。(レース開催日のみ) \n\n営業時間\n9:30～16:30(4部制) \n\n\n1部10:00～11:30 \n\n\n2部11:30～13:00 \n\n\n3部13:30～15:00 \n\n\n4部15:00～16:30 \n体験予約はこちら
URL:https://kanko.u900.work/event/tribe_events-8922/
LOCATION:ボートレース津\, 津市藤方637\, 514-0815
CATEGORIES:体験型イベント
ATTACH;FMTTYPE=image/jpeg:https://kanko.u900.work/manage/wp-content/uploads/2024/07/カンドゥー.jpg
END:VEVENT
BEGIN:VEVENT
DTSTART;VALUE=DATE:20240815
DTEND;VALUE=DATE:20240816
DTSTAMP:20260420T072228
CREATED:20240611T044143Z
LAST-MODIFIED:20240801T080253Z
UID:7306-1723680000-1723766399@kanko.u900.work
SUMMARY:あのう「光れ！しかけ花火」祭り
DESCRIPTION:17時～\nじゃんけんゲーム\n\n\n17時40分～\nビューティーあのう「フォークダンス」\n17：55～タワーズ「オールディーズバンド」\n18：20～ダンスチーム凛「よさこい」\n18：40～サクラギファミリア「フラメンコ」\n\n\n19時～\n盆踊り\n(安濃音頭、炭坑節、津のまち音頭)\n\n\n20時～\n大会長挨拶、顧問挨拶、来賓紹介\n\n\n20時15分～\n仕掛け花火\n１．明合小学校\n２．草生小学校\n３．東観中学校\n４．安濃小学校\n５．村主小学校\n２０時４０分～：打ち上げ花火\n\n\n21時\n終了\n\n\n\n電話：059-268-2909（事務局：津市商工会安濃支所）
URL:https://kanko.u900.work/event/tribe_events-7306/
LOCATION:安濃中央総合公園内多目的グラウンド\, 三重県津市安濃町田畑上野797-1\, 514-2325
CATEGORIES:グルメイベント,観光イベント
ATTACH;FMTTYPE=image/jpeg:https://kanko.u900.work/manage/wp-content/uploads/2024/06/IMG_2401.jpg
END:VEVENT
BEGIN:VEVENT
DTSTART;TZID=Asia/Tokyo:20240815T120000
DTEND;TZID=Asia/Tokyo:20240815T120000
DTSTAMP:20260420T072228
CREATED:20240725T053117Z
LAST-MODIFIED:20240725T053206Z
UID:8938-1723723200-1723723200@kanko.u900.work
SUMMARY:「第7回8.15津・平和の鐘」開催のお知らせ
DESCRIPTION:「8.15津・平和の鐘」は、2024年で第7回目となります。 \nただし、本年もコロナ禍の現状を考慮して一般市民の皆様には各協力施設へのご参加が任意であることとこの事業が終戦記念日である8月15日（木）に、参加協力寺院75か所と津市指定文化財「子午の鐘」（久居幸町）とで、合わせて津市全体の76か所において各任意の時間に開催されことをお知らせします。 \nただし、「子午の鐘」では、セレモニーとして12時からの1分間の黙禱の前に前葉市長のご挨拶があります。 \n当日に鐘の音が聞こえましたら、それは「8.15津・平和の鐘」として、戦没者の追悼と世界平和、そしてコロナ禍の収束への願いが込められていることを思い浮かべてご一緒に祈念していただければ幸いです。 \n「津がつながる津ぅりずむ」（市民団体）
URL:https://kanko.u900.work/event/tribe_events-8938/
LOCATION:子午の鐘（ときのかね）\, 三重県津市久居幸町1040-1\, 514-1132
CATEGORIES:体験型イベント
ATTACH;FMTTYPE=image/jpeg:https://kanko.u900.work/manage/wp-content/uploads/2024/07/子午の鐘（ときのかね）.jpg
END:VEVENT
BEGIN:VEVENT
DTSTART;TZID=Asia/Tokyo:20240817T090000
DTEND;TZID=Asia/Tokyo:20240818T203000
DTSTAMP:20260420T072228
CREATED:20240710T035545Z
LAST-MODIFIED:20240710T040051Z
UID:8146-1723885200-1724013000@kanko.u900.work
SUMMARY:千手観音ご開帳奉納夏祭り
DESCRIPTION:普段は見ることができない「千手観世音菩薩立像」を2日間ご開帳します。 \n無病息災や厄除けを祈願する「茅の輪くぐり」、夕刻からは「納涼くじ」「子ども縁日」「宵の市」などの楽しい催しがいっぱいです。 \n奉納盆踊り大会も行われ、参加した子どもたちや踊り子さんは、お菓子の参加賞がもらえます。 \n→　詳細は、チラシ　でご確認ください。 \n　　賢明寺の公式HPは、コチラ　
URL:https://kanko.u900.work/event/tribe_events-8146/
LOCATION:津市久居元町 千手院賢明寺
CATEGORIES:体験型イベント
ATTACH;FMTTYPE=image/jpeg:https://kanko.u900.work/manage/wp-content/uploads/2024/07/20240709182135-0001.jpg
END:VEVENT
BEGIN:VEVENT
DTSTART;TZID=Asia/Tokyo:20240817T160000
DTEND;TZID=Asia/Tokyo:20240817T210000
DTSTAMP:20260420T072228
CREATED:20240816T043528Z
LAST-MODIFIED:20240816T043923Z
UID:9219-1723910400-1723928400@kanko.u900.work
SUMMARY:緑の風マルシェ　夕涼みマルシェ
DESCRIPTION:  \nたくさんのお店が並ぶいつものマルシェに加え、子どもの楽しめる縁日、盆踊りもある、いつもより賑やかなマルシェです。お見逃しなく、大勢できてください！ \n場所：久居駅東口すぐ　緑の風公園\n日時：8月17日（土）16:00～21:00 \n※　詳細は、ひさい緑の風マルシェＨＰへ
URL:https://kanko.u900.work/event/tribe_events-9219/
LOCATION:久居駅東口すぐ　緑の風公園
CATEGORIES:グルメイベント,プレイイベント,観光イベント
ATTACH;FMTTYPE=image/jpeg:https://kanko.u900.work/manage/wp-content/uploads/2024/08/8.17緑の風マルシェポスター.jpg
END:VEVENT
BEGIN:VEVENT
DTSTART;TZID=Asia/Tokyo:20240818T090000
DTEND;TZID=Asia/Tokyo:20240818T090000
DTSTAMP:20260420T072228
CREATED:20240603T054507Z
LAST-MODIFIED:20240619T082352Z
UID:7183-1723971600-1723971600@kanko.u900.work
SUMMARY:第27回ビーチバレーin御殿場2024
DESCRIPTION:6月16日から応募開始を予定しています \n津市の御殿場海岸でのビーチバレー大会は、優勝・準優勝チームに極上の松阪肉を進呈！ \n懸賞マッチや楽しいイベントにも注目です♪ \n応募フォームはこちら！ \n \n令和６年度募集チーム数及び競技参加料 \n\n\n\n部門\n募集チーム数\n人数\n競技参加料（1チーム）\n\n\n成年男子３人制の部\n　４８チーム\n　１４４人\n　４，５００円\n\n\n成年女子３人制の部\n　１６チーム\n　　４８人\n　４，５００円\n\n\n成年男女３人制の部\n　９６チーム\n　２８８人\n　４，５００円\n\n\n少年男子３人制の部\n　１６チーム\n　　４８人\n　１，５００円\n\n\n少年女子３人制の部\n　　８チーム\n　　２４人\n　１，５００円\n\n\n小学生４人制の部\n　１６チーム\n　　６４人\n　１，０００円\n\n\n合計\n２００チーム\n　６１６人\n\n\n\n\n  \n\n昨年度（令和５年度）実績（参加チーム数と参加人数） \n\n\n\n部門\n募集チーム数\n人数\n\n\n成年男子３人制の部\n　３６チーム\n１０８人\n\n\n成年女子３人制の部\n　１３チーム\n　３９人\n\n\n成年男女３人制の部\n　６１チーム\n１８３人\n\n\n少年男子３人制の部\n　２１チーム\n　６３人\n\n\n少年女子３人制の部\n　　５チーム\n　１５人\n\n\n小学生４人制の部\n　　８チーム\n　３２人\n\n\n合計\n１４４チーム\n４４０人\n\n\n\n 
URL:https://kanko.u900.work/event/tribe_events-7183/
LOCATION:御殿場海岸
CATEGORIES:プレイイベント
ATTACH;FMTTYPE=image/jpeg:https://kanko.u900.work/manage/wp-content/uploads/2024/05/ビーチバレー御殿場-1.jpg
END:VEVENT
BEGIN:VEVENT
DTSTART;TZID=Asia/Tokyo:20240824T110000
DTEND;TZID=Asia/Tokyo:20240824T150000
DTSTAMP:20260420T072228
CREATED:20240822T014702Z
LAST-MODIFIED:20240822T015209Z
UID:9373-1724497200-1724511600@kanko.u900.work
SUMMARY:湯の瀬マルシェ～ピクニックカーニバル～
DESCRIPTION:湯の瀬開業2周年感謝祭企画！ \n雑貨やグルメ、マルシェなど充実しています。 \n温泉入浴とあわせてお楽しみください。
URL:https://kanko.u900.work/event/tribe_events-9373/
LOCATION:湯の瀬\, 津市榊原町6103\, 514-1251
CATEGORIES:グルメイベント,観光イベント
ATTACH;FMTTYPE=image/jpeg:https://kanko.u900.work/manage/wp-content/uploads/2024/08/湯の瀬ピクニックカーニバル.jpg
END:VEVENT
BEGIN:VEVENT
DTSTART;TZID=Asia/Tokyo:20240824T150000
DTEND;TZID=Asia/Tokyo:20240824T210000
DTSTAMP:20260420T072228
CREATED:20240822T011556Z
LAST-MODIFIED:20240823T015757Z
UID:9370-1724511600-1724533200@kanko.u900.work
SUMMARY:大門キモノ夏祭り２０２４
DESCRIPTION:着物姿で昭和レトロな街並みを楽しむイベントです。 \n着物レンタル、着付け、ヘアセットが格安で利用できます。 \n当日申込も可能となっております！ \n６月開催に続き、さらにボリュームアップされる『大門キモノ祭り』は盆踊り（18時から）の実施や『津ぅのドまんなかバル』と同時開催されます。です。 \nほかにもキッチンカーなどの出店もありますので、ぜひご来場ください。 \nイベント詳細は公式Instagramから \n着付けのご予約は↓↓の公式LINEから。 \nlin.ee/53r7lTL
URL:https://kanko.u900.work/event/tribe_events-9370/
LOCATION:大門大通り商店街\, 三重県津市大門24-12\, 514-0027
CATEGORIES:体験型イベント
ATTACH;FMTTYPE=image/jpeg:https://kanko.u900.work/manage/wp-content/uploads/2024/08/screenshot.725.jpg
END:VEVENT
BEGIN:VEVENT
DTSTART;TZID=Asia/Tokyo:20240828T100000
DTEND;TZID=Asia/Tokyo:20240901T170000
DTSTAMP:20260420T072228
CREATED:20240830T050944Z
LAST-MODIFIED:20240830T051339Z
UID:9621-1724839200-1725210000@kanko.u900.work
SUMMARY:電車おもちゃの広場
DESCRIPTION:松菱の遊びの広場が登場！\n■じぶんのプラレールを走らせることができるよ！ \n■鉄道ミニジオラマ模型 \n■車掌なりきり体験（8月31日(土)、9月1日(日)） \n■寝台特急急行先方向幕の幕回し体験（8月31日(土)、9月1日(日)） \n■名松線ミニ写真集配布（8月31日(土)、9月1日(日)） \nなど、内容盛りだくさんです！ \n2024年8月28日（水）〜9月1日（日）\n松菱6階/催事場\n午前10時〜午後5時\n［入場料］ お一人様:（税込）300円\n※お支払いは現金のみとなります。 ※3歳以下無料 ※マッピーポイントは対象外
URL:https://kanko.u900.work/event/tribe_events-9621/
LOCATION:松菱\, 三重県津市東丸之内４−１０\, 514-0028
CATEGORIES:プレイイベント,体験型イベント
ATTACH;FMTTYPE=image/jpeg:https://kanko.u900.work/manage/wp-content/uploads/2024/08/電車広場.jpg
END:VEVENT
BEGIN:VEVENT
DTSTART;TZID=Asia/Tokyo:20240831T130000
DTEND;TZID=Asia/Tokyo:20240831T200000
DTSTAMP:20260420T072228
CREATED:20240607T061507Z
LAST-MODIFIED:20240830T065509Z
UID:7217-1725109200-1725134400@kanko.u900.work
SUMMARY:【中止】いちし夏まつり
DESCRIPTION:この度８月３１日(荒天時は9月1日に順延)開催を予定しておりました『２０２４いちし夏まつり』は大型の台風１０号の接近が予測されており安全を考慮し中止が決定されました。 \n \n8月31日(土)いちし夏まつり開催！ \n13:00～　まつりスタート（屋台開店・ステージスタート） \n16:00～　お菓子まき（小学生対象です） \n17:00～　抽選会受付（先着800名） \n17:30～　納涼盆踊り（第1部） \n18:15～　大抽選会 \n18:40～　納涼盆踊り（第2部） \n19:30～　花火大会 \n20:00～　まつり終了 \n詳細はチラシ裏面をご確認ください。
URL:https://kanko.u900.work/event/tribe_events-7217/
LOCATION:とことめの里一志\, 津市一志町井関1792\, 三重県\, 515-2521\, 日本
CATEGORIES:観光イベント
ATTACH;FMTTYPE=image/jpeg:https://kanko.u900.work/manage/wp-content/uploads/2024/06/いちし夏まつり表面.jpg
END:VEVENT
END:VCALENDAR